BEGIN:VCALENDAR
VERSION:2.0
PRODID:-//CAF Airbase Georgia - ECPv6.15.20//NONSGML v1.0//EN
CALSCALE:GREGORIAN
METHOD:PUBLISH
X-ORIGINAL-URL:https://airbasegeorgia.org
X-WR-CALDESC:Events for CAF Airbase Georgia
REFRESH-INTERVAL;VALUE=DURATION:PT1H
X-Robots-Tag:noindex
X-PUBLISHED-TTL:PT1H
BEGIN:VTIMEZONE
TZID:America/New_York
BEGIN:DAYLIGHT
TZOFFSETFROM:-0500
TZOFFSETTO:-0400
TZNAME:EDT
DTSTART:20250309T070000
END:DAYLIGHT
BEGIN:STANDARD
TZOFFSETFROM:-0400
TZOFFSETTO:-0500
TZNAME:EST
DTSTART:20251102T060000
END:STANDARD
BEGIN:DAYLIGHT
TZOFFSETFROM:-0500
TZOFFSETTO:-0400
TZNAME:EDT
DTSTART:20260308T070000
END:DAYLIGHT
BEGIN:STANDARD
TZOFFSETFROM:-0400
TZOFFSETTO:-0500
TZNAME:EST
DTSTART:20261101T060000
END:STANDARD
BEGIN:DAYLIGHT
TZOFFSETFROM:-0500
TZOFFSETTO:-0400
TZNAME:EDT
DTSTART:20270314T070000
END:DAYLIGHT
BEGIN:STANDARD
TZOFFSETFROM:-0400
TZOFFSETTO:-0500
TZNAME:EST
DTSTART:20271107T060000
END:STANDARD
END:VTIMEZONE
BEGIN:VEVENT
DTSTART;TZID=America/New_York:20260321T090000
DTEND;TZID=America/New_York:20260321T160000
DTSTAMP:20260420T022644
CREATED:20240301T014744Z
LAST-MODIFIED:20260204T233719Z
UID:3512-1774083600-1774108800@airbasegeorgia.org
SUMMARY:Wings and Things - Douglas\, GA
DESCRIPTION:Visit Douglas-Coffee County GA is so excited to announce the 4th Annual WINGS & THINGS Festival and Fly-in at the Douglas Municipal Airport on March 21st in southeast Georgia! Last year was a huge success and we can’t wait to do it again – bigger and better! We’ll be there all day Saturday with warbirds\, antique military vehicles\, food trucks\, vendors\, kids area\, entertainment\, car show\, hot wing cook-off and so much more. Grab the family and fly or drive in to the airport for a day of fun and history! \n\n\n\nAirbase Georgia will be at this event with our newly restored PT-19 aircraft. Come see it\, or even purchase a ride below: \n\n\n\n\nAll riders must be at least 12 years old.\n\n\n\nPassengers cannot touch the flight controls during the ride due to FAA regulations.\n\n\n\nAerobatics are not flown on rides.
URL:https://airbasegeorgia.org/event/wings-and-things/
LOCATION:Douglas Municipal Airport\, 440 Elton D. Brooks Boulevard\, Douglas\, Georgia\, 31533\, United States
ATTACH;FMTTYPE=image/png:https://airbasegeorgia.org/wp-content/uploads/2024/02/Wings-Things.png
END:VEVENT
END:VCALENDAR