BEGIN:VCALENDAR
VERSION:2.0
PRODID:-//CAF Airbase Georgia - ECPv6.15.20//NONSGML v1.0//EN
CALSCALE:GREGORIAN
METHOD:PUBLISH
X-ORIGINAL-URL:https://airbasegeorgia.org
X-WR-CALDESC:Events for CAF Airbase Georgia
REFRESH-INTERVAL;VALUE=DURATION:PT1H
X-Robots-Tag:noindex
X-PUBLISHED-TTL:PT1H
BEGIN:VTIMEZONE
TZID:America/New_York
BEGIN:DAYLIGHT
TZOFFSETFROM:-0500
TZOFFSETTO:-0400
TZNAME:EDT
DTSTART:20230312T070000
END:DAYLIGHT
BEGIN:STANDARD
TZOFFSETFROM:-0400
TZOFFSETTO:-0500
TZNAME:EST
DTSTART:20231105T060000
END:STANDARD
BEGIN:DAYLIGHT
TZOFFSETFROM:-0500
TZOFFSETTO:-0400
TZNAME:EDT
DTSTART:20240310T070000
END:DAYLIGHT
BEGIN:STANDARD
TZOFFSETFROM:-0400
TZOFFSETTO:-0500
TZNAME:EST
DTSTART:20241103T060000
END:STANDARD
BEGIN:DAYLIGHT
TZOFFSETFROM:-0500
TZOFFSETTO:-0400
TZNAME:EDT
DTSTART:20250309T070000
END:DAYLIGHT
BEGIN:STANDARD
TZOFFSETFROM:-0400
TZOFFSETTO:-0500
TZNAME:EST
DTSTART:20251102T060000
END:STANDARD
END:VTIMEZONE
BEGIN:VEVENT
DTSTART;TZID=America/New_York:20241109T090000
DTEND;TZID=America/New_York:20241110T170000
DTSTAMP:20260425T104219
CREATED:20241011T035433Z
LAST-MODIFIED:20241011T035433Z
UID:3844-1731142800-1731258000@airbasegeorgia.org
SUMMARY:Warbirds Over Monroe - Monroe\, NC
DESCRIPTION:Come see the SBD Dauntless at Warbirds Over Monroe! \n\n\n\nWarbirds Over Monroe Air Show is proudly hosted by the City of Monroe’s Communications and Tourism Department at Charlotte-Monroe Executive Airport. Centered around Veterans Day weekend\, this air show is dedicated to honoring the many men and women who have served this country in the armed forces and draws thousands of spectators from all around the region. \n\n\n\nThis year’s air show will take place on Saturday\, November 9\, and Sunday\, November 10. The show will go on rain or shine. We encourage guests to bring blankets or folding chairs for seating. Cameras are allowed. \n\n\n\nCoolers\, drones\, and pets\, with the exception of service dogs\, are not permitted. There is no smoking allowed on City property. \n\n\n\nSee FAQ page for more information about the event. \n\n\n\nImportant Reminders:\n\n\n\n\nAll flying schedules are subject to change\n\n\n\nGates open at 9 am and close at 5 pm\n\n\n\nFlying starts at noon
URL:https://airbasegeorgia.org/event/warbirds-over-monroe-monroe-nc/
LOCATION:Charlotte-Monroe Executive Airport\, 3900 Paul J Hemls Drive\, Monroe\, North Carolina\, 28110\, United States
ATTACH;FMTTYPE=image/jpeg:https://airbasegeorgia.org/wp-content/uploads/2024/10/WarbirdsOverMonroe-scaled.jpg
END:VEVENT
BEGIN:VEVENT
DTSTART;TZID=America/New_York:20241110T120000
DTEND;TZID=America/New_York:20241110T160000
DTSTAMP:20260425T104219
CREATED:20240820T194929Z
LAST-MODIFIED:20250821T140456Z
UID:3749-1731240000-1731254400@airbasegeorgia.org
SUMMARY:Fall Open House 2024
DESCRIPTION:See our aircraft displays\, restoration aircraft areas\, and shop activities at our next open house. \n\n\n\nRides will be available in our P-51 Mustang\, LT-6 Mosquito\, T-34 Mentor\, and PT-19.  11/9 Update:  Unfortunately\, rides will not be offered due to unfavorable weather forecast. \n\n\n\nWe’ll see you at noon on Sunday\, November 10th!
URL:https://airbasegeorgia.org/event/fall-open-house2/
LOCATION:Airbase Georgia\, 1200 Echo Court\, Peachtree City\, GA\, Georgia\, 30269\, United States
ATTACH;FMTTYPE=image/png:https://airbasegeorgia.org/wp-content/uploads/2022/07/ABGA-Logo.png
END:VEVENT
END:VCALENDAR